BEGIN:VCALENDAR
VERSION:2.0
PRODID:-//hellendorf.info - ECPv6.15.13.1//NONSGML v1.0//EN
CALSCALE:GREGORIAN
METHOD:PUBLISH
X-WR-CALNAME:hellendorf.info
X-ORIGINAL-URL:https://hellendorf.info
X-WR-CALDESC:Veranstaltungen für hellendorf.info
REFRESH-INTERVAL;VALUE=DURATION:PT1H
X-Robots-Tag:noindex
X-PUBLISHED-TTL:PT1H
BEGIN:VTIMEZONE
TZID:Europe/Berlin
BEGIN:DAYLIGHT
TZOFFSETFROM:+0100
TZOFFSETTO:+0200
TZNAME:CEST
DTSTART:20190331T010000
END:DAYLIGHT
BEGIN:STANDARD
TZOFFSETFROM:+0200
TZOFFSETTO:+0100
TZNAME:CET
DTSTART:20191027T010000
END:STANDARD
BEGIN:DAYLIGHT
TZOFFSETFROM:+0100
TZOFFSETTO:+0200
TZNAME:CEST
DTSTART:20200329T010000
END:DAYLIGHT
BEGIN:STANDARD
TZOFFSETFROM:+0200
TZOFFSETTO:+0100
TZNAME:CET
DTSTART:20201025T010000
END:STANDARD
BEGIN:DAYLIGHT
TZOFFSETFROM:+0100
TZOFFSETTO:+0200
TZNAME:CEST
DTSTART:20210328T010000
END:DAYLIGHT
BEGIN:STANDARD
TZOFFSETFROM:+0200
TZOFFSETTO:+0100
TZNAME:CET
DTSTART:20211031T010000
END:STANDARD
END:VTIMEZONE
BEGIN:VEVENT
DTSTART;TZID=Europe/Berlin:20200207T190000
DTEND;TZID=Europe/Berlin:20200207T230000
DTSTAMP:20260421T234948
CREATED:20190126T173645Z
LAST-MODIFIED:20200126T162335Z
UID:606-1581102000-1581116400@hellendorf.info
SUMMARY:Grünkohlessen  der CDU -Hellendorf !
DESCRIPTION:Grünkohlessen  der CDU -Hellendorf ! \n Am Freitag\,den 7.2. bietet  die CDU  Hellendorf  Ihnen  das beliebte Grünkohlessen an.  \nAb 19.00 Uhr beginnt das Essen dieses Jahr im Gasthaus Goltermann in Elze\,Plumhofer Str. 57 .  \nAngeboten wird Grünkohl mit Kassler\,Wellfleisch und Bregenwurst und Salz- oder Bratkartoffeln. Es kann auch ein anderes Gemüse gereicht werden. Es wird von allem wirklich reichlich angeboten.Das  Abendessen kostet 18\,50 €.  \nAus organisatorischen Gründen melden Sie sich bitte bis Montag\, den 3.2.  bei  Lindy Bötel (05130/2683 oder Daniela Schröter (05130 /9546017) an.   
URL:https://hellendorf.info/event/gruenkohlessen-der-cdu-hellendorf-2/
LOCATION:Gasthaus Goltermann\, Plumhofer Str. 57\, Wedemark\, Niedersachsen\, 30900\, Deutschland
ATTACH;FMTTYPE=image/jpeg:https://hellendorf.info/wp-content/uploads/2018/01/kale-3105129_1280.jpg
END:VEVENT
END:VCALENDAR