BEGIN:VCALENDAR
VERSION:2.0
PRODID:-//hellendorf.info - ECPv6.15.13.1//NONSGML v1.0//EN
CALSCALE:GREGORIAN
METHOD:PUBLISH
X-ORIGINAL-URL:https://hellendorf.info
X-WR-CALDESC:Veranstaltungen für hellendorf.info
REFRESH-INTERVAL;VALUE=DURATION:PT1H
X-Robots-Tag:noindex
X-PUBLISHED-TTL:PT1H
BEGIN:VTIMEZONE
TZID:Europe/Berlin
BEGIN:DAYLIGHT
TZOFFSETFROM:+0100
TZOFFSETTO:+0200
TZNAME:CEST
DTSTART:20180325T010000
END:DAYLIGHT
BEGIN:STANDARD
TZOFFSETFROM:+0200
TZOFFSETTO:+0100
TZNAME:CET
DTSTART:20181028T010000
END:STANDARD
BEGIN:DAYLIGHT
TZOFFSETFROM:+0100
TZOFFSETTO:+0200
TZNAME:CEST
DTSTART:20190331T010000
END:DAYLIGHT
BEGIN:STANDARD
TZOFFSETFROM:+0200
TZOFFSETTO:+0100
TZNAME:CET
DTSTART:20191027T010000
END:STANDARD
BEGIN:DAYLIGHT
TZOFFSETFROM:+0100
TZOFFSETTO:+0200
TZNAME:CEST
DTSTART:20200329T010000
END:DAYLIGHT
BEGIN:STANDARD
TZOFFSETFROM:+0200
TZOFFSETTO:+0100
TZNAME:CET
DTSTART:20201025T010000
END:STANDARD
END:VTIMEZONE
BEGIN:VEVENT
DTSTART;TZID=Europe/Berlin:20191108T173000
DTEND;TZID=Europe/Berlin:20191108T213000
DTSTAMP:20260421T195356
CREATED:20171013T104250Z
LAST-MODIFIED:20191025T123254Z
UID:298-1573234200-1573248600@hellendorf.info
SUMMARY:Laternenumzug und Laternenfest
DESCRIPTION:Laternenfest mit Umzug\nFreitag\, den 8.11. 2019 um 18:00 Uhr\nstartet der traditionelle Laternenumzug\ndurch Hellendorf\n  \nTreffpunkt ab 17:30 zwischen Schule und Kindergarten am Steinkreis.\nDie Kinder singen dort gemeinsam. Im Anschluss beginnt der Laternenumzug.\nFür das leibliche Wohl für Groß und Klein ist im Anschluss auf dem Schulhof bestens gesorgt.\nÜber zahlreiche Beteiligung freuen sich : Schützenverein\, Feuerwehr\, Kindergarten\, Schule\, Tennisclub\, Reitverein und Ortsrat. \n  \n 
URL:https://hellendorf.info/event/298/
LOCATION:Schule Hellendorf
ATTACH;FMTTYPE=image/png:https://hellendorf.info/wp-content/uploads/2017/10/Laternenumzug-Hellendorf.png
END:VEVENT
BEGIN:VEVENT
DTSTART;TZID=Europe/Berlin:20191109T150000
DTEND;TZID=Europe/Berlin:20191109T170000
DTSTAMP:20260421T195356
CREATED:20171007T165227Z
LAST-MODIFIED:20191025T122135Z
UID:78-1573311600-1573318800@hellendorf.info
SUMMARY:Schweinepreisschießen für alle Hellendorfer
DESCRIPTION:Austragungsort : Schützenhaus / Dorfgemeinschaftshaus Hellendorf\, Sandbergweg 22 \nAustragungszeiten : Samstag  09.11.2019  von  15:00 Uhr bis 17:00 Uhr \nTeilnehmer :      Alle Hellendorfer Bürger\, 3./ Feldjägerregiment 2\,  3./FJgRgt 2\, und Schützenmitglieder des SVH sind willkommen! Alle Hellendorfer Kinder und Jugendliche sind ebenfalls eingeladen ! Kinder unter 12 Jahren schießen gefahrlos mit dem Lasergewehr ! \nÜbungs-  und Vorschießen  am Mittwoch 06.11.2017 von 19:00 Uhr   – 21:00 Uhr                        \nWettbewerb: Luftgewehr sitzend aufgelegt auf Teilerscheiben – 10m \nGewehre\, Scheiben und Munition stellt der Ausrichter \nSchießen : Geschossen wird auf Teilerscheiben\, je Teilerscheibe ein Schuß \n(Probescheiben werden nicht ausgegeben) \n  \nStartgeld :                        Mindesteinsatz    5\,00 €  =  1x 5er Streifen Teilerscheiben \nNachlösung         5\,00 €  =  2x 5er Streifen  ( Menge beliebig ! ) \nJugend 12-17 J    5\,00 €  =  1x 5er Streifen  Teilerscheiben \nNachlösung         2\,50 €  =  2x 5er Streifen Teilerscheibe   (Maximal 10\,-€ ) \nWertung :                       Durch Teilermeßgerät. Die zwei niedrigsten Teilerergebnisse gelten. \n(Bei Gleichheit von Teilersummen entscheidet der bessere Teiler) \nLaser- Kinder bis 11 zahlen pro Satz 2\,-€  \, Höchsteinsatz  3 Satz: 6\,-€ ! \nWertung :                Der beste Satz zählt ! ! \n  \nPreisverleihung :     Nach Beendigung des Schießens und der Auswertung ! \nAbschluß : \nGemeinsames Wurstessen mit Umtrunk ! Wer nicht mit schießen  möchte\, kann selbstverständlich am Wurstessen teilnehmen (Preis 5\,- € ) .   \nAllen Teilnehmern wünschen wir recht viel  Spaß \, Erfolg und “ GUT ZIEL !“ \nEs freuen sich auf rege Teilnahme: die Schießsportleiter und der Vorstand ! \nBildquelle: https://pixabay.com/de/schwein-schweinefleisch-gl%C3%BCcklich-154976/
URL:https://hellendorf.info/event/schweinepreisschiessen-fuer-alle-hellendorfer/
LOCATION:Schützenhaus / DGH Hellendorf
ATTACH;FMTTYPE=image/png:https://hellendorf.info/wp-content/uploads/2017/10/pig-154976_960_720.png
END:VEVENT
BEGIN:VEVENT
DTSTART;TZID=Europe/Berlin:20191117T094500
DTEND;TZID=Europe/Berlin:20191117T120000
DTSTAMP:20260421T195356
CREATED:20191116T102223Z
LAST-MODIFIED:20191116T102223Z
UID:683-1573983900-1573992000@hellendorf.info
SUMMARY:Schützenverein Hellendorf e.V. - Volkstrauertag 17.11.2019
DESCRIPTION:   Schützenverein Hellendorf e.V.  & \n  Ortsfeuerwehr Hellendorf  & \n  Ortsrat Hellendorf & \n   Soldatenkameradschaft Hellendorf  & \n  Patenkompanie: 3. FJgRgt 2  3./Feldjägerregiment 2  & \n  \nV o l k s t r a u e r t a g \nSonntag  :  17.11.2019 \n  \nAn alle Schützenmitglieder\, \nalle Kameraden\, \nalle Hellendorfer Bürger \nAm Sonntag\, dem 17. November 2019 findet am Ehrenmal auf dem Hellendorfer Friedhof die Feierstunde zum Volkstrauertag statt \nTerminablauf wie folgt: \n09.45 Uhr  –  Treffen aller Vereine und der Patenkompanie  \n                      hinter der Kapelle am Bostelberge. \n                      Der Zug geht dann gemeinsam in die Kapelle. \n10.00 Uhr  –  Gottesdienst  \n10.45 Uhr  –  Kranzniederlegung am Ehrenmal \nKameraden und Mitglieder\, die nicht am Gottesdienst teilgenommen haben\, können nach dem Gottesdienst in den Zug eintreten  \nDen Abschluß bildet ein gemeinsamer  Imbiss im Dorfgemeinschaftshaus\, Sandbergweg 22\,  Hellendorf  \nWir bitten um rege Teilnahme ! \nSchützenverein Hellendorf \nOrtsfeuerwehr Hellendorf \nOrtsrat Hellendorf \nSoldatenkameradschaft Hellendorf \nPatenkompanie
URL:https://hellendorf.info/event/schuetzenverein-hellendorf-e-v-volkstrauertag-17-11-2019/
LOCATION:hinter der Kapelle am Bostelberge
END:VEVENT
BEGIN:VEVENT
DTSTART;TZID=Europe/Berlin:20191123T190000
DTEND;TZID=Europe/Berlin:20191123T230000
DTSTAMP:20260421T195356
CREATED:20191116T100418Z
LAST-MODIFIED:20191116T100418Z
UID:679-1574535600-1574550000@hellendorf.info
SUMMARY:Gänseessen satt mit der CDU Hellendorf
DESCRIPTION:Die CDU – Hellendorf organisiert für Samstag\, \nden 23.11.19 \num 19°° Uhr ein „Gänseessen satt“ bei Goltermann in Elze . \nMit einer Hochzeitssuppe vorweg  und Knödeln\,Kartoffeln\,Sauerkirschen\, Rotkohl\, und Apfelspalten zur Gans satt kostet das Essen 31€ p.P. \nWer mit dem Fahrrad nach Elze fahren möchte\, trifft sich um 18.30 Uhr an der Ecke Sommerbosteler Str./ Meitzer Str.( Altglascontainer.) \nAnmeldungen nimmt bis zum  Samstag\, den 16.11.Kaj Haverbusch ( Tel.6098681) entgegen. \n  \nBildquelle: https://pixabay.com/de/photos/g%C3%A4nsebraten-gans-weihnachten-essen-1759190/
URL:https://hellendorf.info/event/gaenseessen-satt-mit-der-cdu-hellendorf/
LOCATION:Gasthaus Goltermann\, Plumhofer Str. 57\, Wedemark\, Niedersachsen\, 30900\, Deutschland
ATTACH;FMTTYPE=image/jpeg:https://hellendorf.info/wp-content/uploads/2019/11/roast-goose-1759190_1280.jpg
END:VEVENT
END:VCALENDAR