BEGIN:VCALENDAR
VERSION:2.0
PRODID:-//hellendorf.info - ECPv6.15.13.1//NONSGML v1.0//EN
CALSCALE:GREGORIAN
METHOD:PUBLISH
X-ORIGINAL-URL:https://hellendorf.info
X-WR-CALDESC:Veranstaltungen für hellendorf.info
REFRESH-INTERVAL;VALUE=DURATION:PT1H
X-Robots-Tag:noindex
X-PUBLISHED-TTL:PT1H
BEGIN:VTIMEZONE
TZID:Europe/Berlin
BEGIN:DAYLIGHT
TZOFFSETFROM:+0100
TZOFFSETTO:+0200
TZNAME:CEST
DTSTART:20180325T010000
END:DAYLIGHT
BEGIN:STANDARD
TZOFFSETFROM:+0200
TZOFFSETTO:+0100
TZNAME:CET
DTSTART:20181028T010000
END:STANDARD
BEGIN:DAYLIGHT
TZOFFSETFROM:+0100
TZOFFSETTO:+0200
TZNAME:CEST
DTSTART:20190331T010000
END:DAYLIGHT
BEGIN:STANDARD
TZOFFSETFROM:+0200
TZOFFSETTO:+0100
TZNAME:CET
DTSTART:20191027T010000
END:STANDARD
BEGIN:DAYLIGHT
TZOFFSETFROM:+0100
TZOFFSETTO:+0200
TZNAME:CEST
DTSTART:20200329T010000
END:DAYLIGHT
BEGIN:STANDARD
TZOFFSETFROM:+0200
TZOFFSETTO:+0100
TZNAME:CET
DTSTART:20201025T010000
END:STANDARD
END:VTIMEZONE
BEGIN:VEVENT
DTSTART;TZID=Europe/Berlin:20190921T073000
DTEND;TZID=Europe/Berlin:20190921T190000
DTSTAMP:20260421T144011
CREATED:20190320T093049Z
LAST-MODIFIED:20190422T113014Z
UID:624-1569051000-1569092400@hellendorf.info
SUMMARY:Tagesfahrt Klimahaus Bremerhaven 8° Ost (Reise um die Welt an nur einem Tag)
DESCRIPTION:Freiwillige Feuerwehr Wedemark – Ortswehr Hellendof\nEinladung an alle Hellendorfer Bürgerinnen und Bürger!\nEinladung an alle Feuerwehrkameradinnen und Kameraden!\nGäste sind willkommen!\nWeitere Informationen: Freiwillige Feuerwehr Wedemark Tagesfahrt Klimahaus Bremerhaven \n 
URL:https://hellendorf.info/event/tagesfahrt-klimahaus-bremerhaven-8-ost-reise-um-die-welt-an-nur-einem-tag/
LOCATION:Abfahrt Karsten-Meier\, Schwarmstedter Str. 6\, Hellendorf\, 30900\, Deutschland
ATTACH;FMTTYPE=image/jpeg:https://hellendorf.info/wp-content/uploads/2019/03/Klimahaus_Bremerhaven_at_night.jpg
ORGANIZER;CN="FFw Hellendorf":MAILTO:obmhellendorf@feuerwehr-wedemark.de
END:VEVENT
END:VCALENDAR